Workbook
Name AbaDeprec: '5. Depreciação'!$A$1
Name AbaRemun: '6.Remuneração de capital'!$A$1

Sheet 1.Coleta de Dejetos
A2: 1. Coleta de Dejetos de Fossas Sépticas
A3: Planilha de Composição de Custos
A5: Orçamento Sintético
A6: Descrição do Item | E6: Custo (R$/mês) | F6: %
A7: =A40 -> 1. Mão-de-obra | E7: =+F87 -> 517.25799 | F7: =IFERROR(E7/$E$25,0) -> 0.2174091
A8: =A42 -> 1.1. Auxiliar | E8: =F52 -> 122.06817 | F8: =IFERROR(E8/$E$25,0) -> 0.051306567
A9: =A54 -> 1.3. Motorista | E9: =F64 -> 169.48273 | F9: =IFERROR(E9/$E$25,0) -> 0.071235413
A10: =A67 -> 1.5. Vale Transporte | E10: =F73 -> 64.832092 | F10: =IFERROR(E10/$E$25,0) -> 0.027249626
A11: =A75 -> 1.6. Vale-refeição (diário) | E11: =F79 -> 152 | F11: =IFERROR(E11/$E$25,0) -> 0.063887235
A12: =A81 -> 1.7. Auxílio Alimentação (mensal) | E12: =F85 -> 8.875 | F12: =IFERROR(E12/$E$25,0) -> 0.003730258
A13: =A89 -> 2. Uniformes e Equipamentos de Proteção Individual | E13: =+F103 -> 19.910167 | F13: =IFERROR(E13/$E$25,0) -> 0.0083684572
A14: =A105 -> 3. Veículos e Equipamentos | E14: =+F182 -> 555.01364 | F14: =IFERROR(E14/$E$25,0) -> 0.2332782
A15: =A107 -> 3.1. Veículo com tanque de 10 m³ | E15: =SUM(E16:E21) -> 555.01364 | F15: =IFERROR(E15/$E$25,0) -> 0.2332782
A16: =A109 -> 3.1.1. Depreciação | E16: =F123 -> 38.619759 | F16: =IFERROR(E16/$E$25,0) -> 0.0162323
A17: =A125 -> 3.1.2. Remuneração do Capital | E17: =F139 -> 29.985111 | F17: =IFERROR(E17/$E$25,0) -> 0.012603065
A18: =A141 -> 3.1.3. Impostos e Seguros | E18: =F147 -> 14.992417 | F18: =IFERROR(E18/$E$25,0) -> 0.006301474
A19: =A149 -> 3.1.4. Consumos (para transporte para coleta de resíduos e destinação final) | E19: =F165 -> 216.33955 | F19: =IFERROR(E19/$E$25,0) -> 0.090929841
A20: =A167 -> 3.1.5. Manutenção | E20: =F170 -> 195.36 | F20: =IFERROR(E20/$E$25,0) -> 0.08211191
A21: =A172 -> 3.1.6. Pneus | E21: =F179 -> 59.7168 | F21: =IFERROR(E21/$E$25,0) -> 0.025099613
A22: =A184 -> 4. Ferramentas | E22: =+F198 -> 2.4150417 | F22: =IFERROR(E22/$E$25,0) -> 0.001015068
A23: =A202 -> 5. Custos de destinação final | E23: =+F206 -> 1000 | F23: =IFERROR(E23/$E$25,0) -> 0.42031076
A24: =A210 -> 6. Benefícios e Despesas Indiretas - BDI | E24: =+F216 -> 284.59518 | F24: =IFERROR(E24/$E$25,0) -> 0.11961842
A25: PREÇO TOTAL MENSAL COM A COLETA | E25: =E7+E13+E14+E22+E23+E24 -> 2379.192 | F25: =F7+F13+F14+F22+F23+F24 -> 1
A28: Quantitativos
A29: Mão-de-obra | E29: Quantidade
A30: =+A42 -> 1.1. Auxiliar | E30: 1
A31: =+A54 -> 1.3. Motorista | E31: =C63 -> 1
A32: Total de mão-de-obra (postos de trabalho) | E32: =SUM(E30:E31) -> 2
A34: Veículos e Equipamentos | E34: Quantidade
A35: =+A107 -> 3.1. Veículo com tanque de 10 m³ | E35: =C122 -> 1
A38: Fator de utilização (FU) | B38: 0.05
A40: 1. Mão-de-obra
A42: 1.1. Auxiliar
A43: Discriminação | B43: Unidade | C43: Quantidade | D43: Custo unitário | E43: Subtotal | F43: Total (R$)
A44: Piso da categoria (2) | B44: mês | C44: 1 | D44: 1181.58 | E44: =C44*D44 -> 1181.58
A45: Salário mínimo nacional (1) | D45: 1039
A46: Base de cálculo da Insalubridade | C46: 1
A47: Adicional de Insalubridade | B47: % | C47: 30 | D47: =IF(C46=2,SUM(E44:E45),IF(C46=1,(SUM(E44:E45))*D45/D44,0)) -> 1039 | E47: =C47*D47/100 -> 311.7
A48: Soma | E48: =SUM(E44:E47) -> 1493.28
A49: Encargos Sociais | B49: % | C49: ='2.Encargos Sociais'!$C$27*100 -> 63.49 | D49: =E48 -> 1493.28 | E49: =D49*C49/100 -> 948.08347
...

Sheet 2.Encargos Sociais
A1: Orientações para preenchimento:
A2: 1. Preencha previamente os dados de entrada na planilha 3.CAGED
A5: 2. Composição dos Encargos Sociais
A6: Código | B6: Descrição | C6: Valor
A7: A1 | B7: INSS | C7: 0.2
A8: A2 | B8: SESI | C8: 0.015
A9: A3 | B9: SENAI | C9: 0.01
A10: A4 | B10: INCRA | C10: 0.002
A11: A5 | B11: SEBRAE | C11: 0.006
A12: A6 | B12: Salário educação | C12: 0.025
A13: A7 | B13: Seguro contra acidentes de trabalho | C13: 0.03
A14: A8 | B14: FGTS | C14: 0.08
A15: A | B15: SOMA GRUPO A | C15: =SUM(C7:C14) -> 0.368
A17: B1 | B17: Férias gozadas | C17: 0.0833
A18: B2 | B18: 13º salário | C18: =ROUND('3.CAGED'!C30/'3.CAGED'!C27,4) -> 0.0833
A19: B3 | B19: Licença Paternidade | C19: 0.0006
A20: B4 | B20: Faltas justificadas | C20: 0.0082
A21: B5 | B21: Auxilio acidente de trabalho | C21: 0.0031
A22: B6 | B22: Auxilio doença | C22: 0.0166
A23: B | B23: SOMA GRUPO B | C23: =SUM(C17:C22) -> 0.1951
A25: D1 | B25: Reincidência de Grupo A sobre Grupo B | C25: =ROUND(C15*C23,4) -> 0.0718
A26: D | B26: SOMA GRUPO C | C26: =SUM(C25:C25) -> 0.0718
B27: SOMA (A+B+C) | C27: =C26+C23+C15 -> 0.6349

Sheet 3.CAGED
A1: CÁLCULO DAS VERBAS INDENIZATÓRIAS DOS EMPREGADOS NO SETOR DE LIMPEZA DE FOSSAS SÉPTICAS
A3: Para preencher esta planilha siga os passos 1 a 5:
A4: 1. Acesse o Portal do CAGED no link http://bi.mte.gov.br/cagedestabelecimento/pages/consulta.xhtml
A5: 2. Na Especificação da Consulta, selecione "Demonstrativo por período" e informe as competências relativas ao período Inicial e Final (últimos 12 meses)
A6: 3. Nível Geográfico: selecione "Unidade da Federação" e marque a opção "Rio Grande do Sul"
A7: 4. Nível Setorial: selecione "Classe de atividade econômica segundo a classificação CNAE – versão 2.0 (669 categorias)" e marque a opção "37029 – Atividades relacionadas a esgoto, exceto a gestão de redes"
A8: 5. Clique em Gerar Relatório
A9: 6. Preencha as células em amarelo
B11: 3. CAGED
B12: Rio Grande do Sul - Coleta de Resíduos Não-Perigosos - CNAE 38114
B13: Admissões | C13: 190
B14: Desligamentos | C14: 207
B15: Dispensados com justa causa | C15: 39
B16: Dispensados sem justa causa | C16: 106
B17: Espontâneos | C17: 32
B18: Fim de contrato por prazo determinado | C18: 2
B19: Término de contrato | C19: 27
B20: Aposentados | C20: 0
B21: Mortos | C21: 1
B22: Transferência de saída | C22: 0
B23: Acordo | C23: 0
B24: Indicadores
B25: Variação Emprego Absoluta de 01-03-2018 a 28-02-2019 | C25: =C13-C14 -> -17
B27: Dias ano | C27: 360
B28: 1/3 de férias (dias) | C28: 10
B29: Férias (dias) | C29: 30
B30: 13º Salário (dias) | C30: 30
B31: FGTS | C31: 0.08
B32: Multa FGTS | C32: 0.5

Sheet 4.BDI
A2: 4. Composição do BDI - Benefícios e Despesas Indiretas
D4: Referência estudo TCE
D5: 1° Quartil | E5: Médio | F5: 3° Quartil
A6: Administração Central | B6: AC | C6: 0.0508 | D6: 0.0297 | E6: 0.0508 | F6: 0.0627
A7: Seguros/Riscos/Garantias | B7: SRG | C7: 0.0133 | D7: =0.3%+0.56% -> 0.0086 | E7: =0.48%+0.85% -> 0.0133 | F7: =0.82%+0.89% -> 0.0171
A8: Lucro | B8: L | C8: 0.1085 | D8: 0.0778 | E8: 0.1085 | F8: 0.1355
A9: Despesas Financeiras | B9: DF | C9: =(1+E9)^(E10/252)-1 -> 0.0025021251 | D9: i | E9: 0.065
A10: Tributos - ISS | B10: T | C10: 0.025 | D10: DU | E10: 10
A11: Tributos - PIS/COFINS | C11: 0.0365
A12: Fórmula para o cálculo do BDI:
A13: {[(1+AC+SRG) x (1+L) x (1+DF)] / (1-T)} -1
A14: Resultado do cálculo do BDI: | C14: =ROUND((((1+C6+C7)*(1+C8)*(1+C9))/(1-(C10+C11))-1),4) -> 0.26 | D14: 0.2143 | E14: 0.2717 | F14: 0.3362

Sheet 5. Depreciação
A1: 5. Depreciação Referencial TCE/RS (%)
A2: Idade do veículo (ano) | B2: Depreciação Média
A3: 1 | B3: 33.63
A4: 2 | B4: 43.13
A5: 3 | B5: 48.68
A6: 4 | B6: 52.62
A7: 5 | B7: 55.68
A8: 6 | B8: 58.18
A9: 7 | B9: 60.29
A10: 8 | B10: 62.12
A11: 9 | B11: 63.73
A12: 10 | B12: 65.18
A13: 11 | B13: 66.48
A14: 12 | B14: 67.67
... A17: 15 | B17: 70.73

Sheet 6.Remuneração de capital
A1: 6. Remuneração de Capital
A3: Fórmula de cálculo da remuneração de capital:
A12: Jm = remuneração de capital mensal
A13: i = taxa de juros do mercado (sugere-se adotar a taxa SELIC)
A14: Im = investimento médio
A15: V0 = valor inicial do bem
A16: Vr = valor residual do bem
A17: n = vida útil do bem em anos
